BEGIN:VCALENDAR
VERSION:2.0
PRODID:-//L’Arche Cleveland - ECPv6.15.20//NONSGML v1.0//EN
CALSCALE:GREGORIAN
METHOD:PUBLISH
X-WR-CALNAME:L’Arche Cleveland
X-ORIGINAL-URL:https://www.larchecleveland.org
X-WR-CALDESC:Events for L’Arche Cleveland
REFRESH-INTERVAL;VALUE=DURATION:PT1H
X-Robots-Tag:noindex
X-PUBLISHED-TTL:PT1H
BEGIN:VTIMEZONE
TZID:America/New_York
BEGIN:DAYLIGHT
TZOFFSETFROM:-0500
TZOFFSETTO:-0400
TZNAME:EDT
DTSTART:20250309T070000
END:DAYLIGHT
BEGIN:STANDARD
TZOFFSETFROM:-0400
TZOFFSETTO:-0500
TZNAME:EST
DTSTART:20251102T060000
END:STANDARD
BEGIN:DAYLIGHT
TZOFFSETFROM:-0500
TZOFFSETTO:-0400
TZNAME:EDT
DTSTART:20260308T070000
END:DAYLIGHT
BEGIN:STANDARD
TZOFFSETFROM:-0400
TZOFFSETTO:-0500
TZNAME:EST
DTSTART:20261101T060000
END:STANDARD
BEGIN:DAYLIGHT
TZOFFSETFROM:-0500
TZOFFSETTO:-0400
TZNAME:EDT
DTSTART:20270314T070000
END:DAYLIGHT
BEGIN:STANDARD
TZOFFSETFROM:-0400
TZOFFSETTO:-0500
TZNAME:EST
DTSTART:20271107T060000
END:STANDARD
END:VTIMEZONE
BEGIN:VEVENT
DTSTART;TZID=America/New_York:20260517T130000
DTEND;TZID=America/New_York:20260517T150000
DTSTAMP:20260424T042759
CREATED:20260116T190409Z
LAST-MODIFIED:20260116T190409Z
UID:5323-1779022800-1779030000@www.larchecleveland.org
SUMMARY:Eugene's Hope Open House
DESCRIPTION:Join us for an open house at Eugene’s Hope in Highland Heights! See one of our fully remodeled homes\, meet community members\, and learn about the mission of L’Arche Cleveland! \nWhere:\n846 Eastlawn Dr\nHighland Heights\, OH 44143 \nWhen:\nSaturday\, May 17\n1:00p – 3:00p \nWhy:\nTo learn more L’Arche Cleveland and see our homes!
URL:https://www.larchecleveland.org/event/eugenes-hope-open-house/
LOCATION:OH
CATEGORIES:Community Event
END:VEVENT
BEGIN:VEVENT
DTSTART;TZID=America/New_York:20260613T130000
DTEND;TZID=America/New_York:20260613T150000
DTSTAMP:20260424T042759
CREATED:20260116T191213Z
LAST-MODIFIED:20260116T191213Z
UID:5324-1781355600-1781362800@www.larchecleveland.org
SUMMARY:Mercy Open House
DESCRIPTION:Join us for an open house at Mercy in Cleveland Heights! See our newly remodeled kitchen\, meet community members\, and learn about the mission of L’Arche Cleveland! \nWhere:\n3773 Monticello Blvd\nCleveland Heights\, OH 44118 \nWhen:\nSaturday\, June 13\n1:00p – 3:00p \nWhy:\nTo learn more L’Arche Cleveland and see our homes!
URL:https://www.larchecleveland.org/event/mercy-open-house/
LOCATION:OH
CATEGORIES:Community Event
END:VEVENT
BEGIN:VEVENT
DTSTART;TZID=America/New_York:20260725T170000
DTEND;TZID=America/New_York:20260725T220000
DTSTAMP:20260424T042759
CREATED:20260127T182450Z
LAST-MODIFIED:20260127T183350Z
UID:5328-1784998800-1785016800@www.larchecleveland.org
SUMMARY:Final 50th Anniversary Celebration: A Fifties Sock Hop
DESCRIPTION:Join us for the final celebration of our 50th anniversary – a fifties sock hop! Save the date and get ready to celebrate with 50’s themed decor\, food\, and bowling!  \nHelp us celebrate the last 50 years of L’Arche and look ahead to the next 50 years and beyond! \nLaCasa Bella Party Center\n26383 Broadway Ave\nOakwood Village\, OH 44146\nSaturday\, July 25\n5:00p – 10:00p\nMore details to come.
URL:https://www.larchecleveland.org/event/fiftiessockhop/
LOCATION:26383 Broadway Ave\, 26383 Broadway Ave\, Oakwood Village\, OH\, 44146
CATEGORIES:Community Event,Fundraiser
END:VEVENT
END:VCALENDAR